BEGIN:VCALENDAR
VERSION:2.0
PRODID:-//Bay Ridge United Methodist Church - ECPv6.15.14//NONSGML v1.0//EN
CALSCALE:GREGORIAN
METHOD:PUBLISH
X-WR-CALNAME:Bay Ridge United Methodist Church
X-ORIGINAL-URL:https://bayridgeumc.org
X-WR-CALDESC:Events for Bay Ridge United Methodist Church
REFRESH-INTERVAL;VALUE=DURATION:PT1H
X-Robots-Tag:noindex
X-PUBLISHED-TTL:PT1H
BEGIN:VTIMEZONE
TZID:America/Halifax
BEGIN:DAYLIGHT
TZOFFSETFROM:-0400
TZOFFSETTO:-0300
TZNAME:ADT
DTSTART:20250309T060000
END:DAYLIGHT
BEGIN:STANDARD
TZOFFSETFROM:-0300
TZOFFSETTO:-0400
TZNAME:AST
DTSTART:20251102T050000
END:STANDARD
BEGIN:DAYLIGHT
TZOFFSETFROM:-0400
TZOFFSETTO:-0300
TZNAME:ADT
DTSTART:20260308T060000
END:DAYLIGHT
BEGIN:STANDARD
TZOFFSETFROM:-0300
TZOFFSETTO:-0400
TZNAME:AST
DTSTART:20261101T050000
END:STANDARD
BEGIN:DAYLIGHT
TZOFFSETFROM:-0400
TZOFFSETTO:-0300
TZNAME:ADT
DTSTART:20270314T060000
END:DAYLIGHT
BEGIN:STANDARD
TZOFFSETFROM:-0300
TZOFFSETTO:-0400
TZNAME:AST
DTSTART:20271107T050000
END:STANDARD
END:VTIMEZONE
BEGIN:VEVENT
DTSTART;TZID=America/Halifax:20260423T190000
DTEND;TZID=America/Halifax:20260423T203000
DTSTAMP:20260424T112539
CREATED:20240404T203324Z
LAST-MODIFIED:20240623T174551Z
UID:10000142-1776970800-1776976200@bayridgeumc.org
SUMMARY:Bible Study
DESCRIPTION:Join Zoom Meeting https://us06web.zoom.us/j/9182215013491822150134?pwd=RW9iZ3ZEM2Q2SjBSclFoa0dlWldPQT09 \nMeeting ID: 918 2215 0134 Passcode: 961177 \nOne tap mobile +16469313860\,\,91822150134#\,\,\,\,*961177# US +19292056099\,\,91822150134#\,\,\,\,*961177# US (New York) \nDial by your location +1 646 931 3860 US +1 929 205 6099 US (New York) +1 301 715 8592 US (Washington DC) +1 312 626 6799 US (Chicago) +1 669 444 9171 US +1 669 900 6833 US (San Jose) +1 253 215 8782 US (Tacoma) +1 346 248 7799 US (Houston) \nMeeting ID: 918 2215 0134 \nPasscode: 961177 \nFind your local number: https://us06web.zoom.us/u/kFxEoxtHa
URL:https://bayridgeumc.org/event/bible-study-2/2026-04-23/
LOCATION:Bay Ridge United Methodist church\, 7420 4th Avenue\, Brooklyn\, NY\, 11209
END:VEVENT
END:VCALENDAR